BEGIN:VCALENDAR
VERSION:2.0
PRODID:-//The Porch Pour - ECPv6.0.7.1//NONSGML v1.0//EN
CALSCALE:GREGORIAN
METHOD:PUBLISH
X-WR-CALNAME:The Porch Pour
X-ORIGINAL-URL:https://theporchpour.com
X-WR-CALDESC:Events for The Porch Pour
REFRESH-INTERVAL;VALUE=DURATION:PT1H
X-Robots-Tag:noindex
X-PUBLISHED-TTL:PT1H
BEGIN:VTIMEZONE
TZID:America/Chicago
BEGIN:DAYLIGHT
TZOFFSETFROM:-0600
TZOFFSETTO:-0500
TZNAME:CDT
DTSTART:20220313T080000
END:DAYLIGHT
BEGIN:STANDARD
TZOFFSETFROM:-0500
TZOFFSETTO:-0600
TZNAME:CST
DTSTART:20221106T070000
END:STANDARD
END:VTIMEZONE
BEGIN:VEVENT
DTSTART;TZID=America/Chicago:20220608T160000
DTEND;TZID=America/Chicago:20220608T210000
DTSTAMP:20260419T200829
CREATED:20220607T172139Z
LAST-MODIFIED:20220610T210733Z
UID:10000012-1654704000-1654722000@theporchpour.com
SUMMARY:Summer Menu Unveil
DESCRIPTION:Come in today and enjoy your winter favorites\, like this pear flatbread\, one last time before the menu changes! We will be launching our new menu Wednesday with a ribbon cutting Thursday.
URL:https://theporchpour.com/event/summer-menu-unveil/
CATEGORIES:Upcoming Events
ATTACH;FMTTYPE=image/jpeg:https://theporchpour.com/wp-content/uploads/2022/06/summer-menu-unveil.jpg
END:VEVENT
BEGIN:VEVENT
DTSTART;TZID=America/Chicago:20220609T160000
DTEND;TZID=America/Chicago:20220609T210000
DTSTAMP:20260419T200829
CREATED:20220607T160728Z
LAST-MODIFIED:20220610T210727Z
UID:10000013-1654790400-1654808400@theporchpour.com
SUMMARY:Official Ribbon Cutting
DESCRIPTION:Thursday\, June 9th we will be having our official ribbon cutting! We will also be launching our new summer menu. We’d love for you to come celebrate with us!
URL:https://theporchpour.com/event/official-ribbon-cutting/
CATEGORIES:Upcoming Events
ATTACH;FMTTYPE=image/jpeg:https://theporchpour.com/wp-content/uploads/2022/06/ribbon-cutting-3.jpg
END:VEVENT
END:VCALENDAR