BEGIN:VCALENDAR
VERSION:2.0
PRODID:-//The Porch Pour - ECPv6.0.7.1//NONSGML v1.0//EN
CALSCALE:GREGORIAN
METHOD:PUBLISH
X-WR-CALNAME:The Porch Pour
X-ORIGINAL-URL:https://theporchpour.com
X-WR-CALDESC:Events for The Porch Pour
REFRESH-INTERVAL;VALUE=DURATION:PT1H
X-Robots-Tag:noindex
X-PUBLISHED-TTL:PT1H
BEGIN:VTIMEZONE
TZID:America/Chicago
BEGIN:DAYLIGHT
TZOFFSETFROM:-0600
TZOFFSETTO:-0500
TZNAME:CDT
DTSTART:20220313T080000
END:DAYLIGHT
BEGIN:STANDARD
TZOFFSETFROM:-0500
TZOFFSETTO:-0600
TZNAME:CST
DTSTART:20221106T070000
END:STANDARD
END:VTIMEZONE
BEGIN:VEVENT
DTSTART;TZID=America/Chicago:20220807T180000
DTEND;TZID=America/Chicago:20220807T180000
DTSTAMP:20260419T213537
CREATED:20220731T212704Z
LAST-MODIFIED:20220731T214206Z
UID:10000006-1659895200-1659895200@theporchpour.com
SUMMARY:Texas Wine Dinner with Llano Estacado
DESCRIPTION:Sunday\, August 7th at 6pm The Porch Pour is having a 5-course Texas Wine Dinner with pairings from Llano Estacado. View the full menu here. The event is ticketed so be sure to get your ticket today! Get your tickets here. 
URL:https://theporchpour.com/event/texas-wine-dinner-with-llano-estacado-2/
CATEGORIES:Upcoming Events
ATTACH;FMTTYPE=image/jpeg:https://theporchpour.com/wp-content/uploads/2022/07/pork-belly.jpg
END:VEVENT
END:VCALENDAR