BEGIN:VCALENDAR
VERSION:2.0
PRODID:-//The Porch Pour - ECPv6.0.7.1//NONSGML v1.0//EN
CALSCALE:GREGORIAN
METHOD:PUBLISH
X-ORIGINAL-URL:https://theporchpour.com
X-WR-CALDESC:Events for The Porch Pour
REFRESH-INTERVAL;VALUE=DURATION:PT1H
X-Robots-Tag:noindex
X-PUBLISHED-TTL:PT1H
BEGIN:VTIMEZONE
TZID:America/Chicago
BEGIN:DAYLIGHT
TZOFFSETFROM:-0600
TZOFFSETTO:-0500
TZNAME:CDT
DTSTART:20220313T080000
END:DAYLIGHT
BEGIN:STANDARD
TZOFFSETFROM:-0500
TZOFFSETTO:-0600
TZNAME:CST
DTSTART:20221106T070000
END:STANDARD
END:VTIMEZONE
BEGIN:VEVENT
DTSTART;TZID=America/Chicago:20220702T100000
DTEND;TZID=America/Chicago:20220702T140000
DTSTAMP:20260420T001834
CREATED:20220607T225416Z
LAST-MODIFIED:20220617T201733Z
UID:10000015-1656756000-1656770400@theporchpour.com
SUMMARY:Come Celebrate Independence Day Weekend With Us!
DESCRIPTION:Come Celebrate Independence Day Weekend With Us!
URL:https://theporchpour.com/event/come-celebrate-independence-day-weekend-with-us/2022-07-02/
CATEGORIES:Upcoming Events
ATTACH;FMTTYPE=image/jpeg:https://theporchpour.com/wp-content/uploads/2022/06/independence-day-weekend-thumb.jpg
END:VEVENT
BEGIN:VEVENT
DTSTART;TZID=America/Chicago:20220702T150000
DTEND;TZID=America/Chicago:20220702T230000
DTSTAMP:20260420T001834
CREATED:20220607T225416Z
LAST-MODIFIED:20220617T201733Z
UID:10000016-1656774000-1656802800@theporchpour.com
SUMMARY:Come Celebrate Independence Day Weekend With Us!
DESCRIPTION:Come Celebrate Independence Day Weekend With Us!
URL:https://theporchpour.com/event/come-celebrate-independence-day-weekend-with-us/2022-07-02/
CATEGORIES:Upcoming Events
ATTACH;FMTTYPE=image/jpeg:https://theporchpour.com/wp-content/uploads/2022/06/independence-day-weekend-thumb.jpg
END:VEVENT
BEGIN:VEVENT
DTSTART;TZID=America/Chicago:20220703T100000
DTEND;TZID=America/Chicago:20220703T140000
DTSTAMP:20260420T001834
CREATED:20220607T225416Z
LAST-MODIFIED:20220617T201733Z
UID:10000017-1656842400-1656856800@theporchpour.com
SUMMARY:Come Celebrate Independence Day Weekend With Us!
DESCRIPTION:Come Celebrate Independence Day Weekend With Us!
URL:https://theporchpour.com/event/come-celebrate-independence-day-weekend-with-us/2022-07-03/
CATEGORIES:Upcoming Events
ATTACH;FMTTYPE=image/jpeg:https://theporchpour.com/wp-content/uploads/2022/06/independence-day-weekend-thumb.jpg
END:VEVENT
BEGIN:VEVENT
DTSTART;TZID=America/Chicago:20220703T150000
DTEND;TZID=America/Chicago:20220703T210000
DTSTAMP:20260420T001834
CREATED:20220607T225416Z
LAST-MODIFIED:20220617T201733Z
UID:10000018-1656860400-1656882000@theporchpour.com
SUMMARY:Come Celebrate Independence Day Weekend With Us!
DESCRIPTION:Come Celebrate Independence Day Weekend With Us!
URL:https://theporchpour.com/event/come-celebrate-independence-day-weekend-with-us/2022-07-03/
CATEGORIES:Upcoming Events
ATTACH;FMTTYPE=image/jpeg:https://theporchpour.com/wp-content/uploads/2022/06/independence-day-weekend-thumb.jpg
END:VEVENT
END:VCALENDAR