BEGIN:VCALENDAR
VERSION:2.0
PRODID:-//The Porch Pour - ECPv6.0.7.1//NONSGML v1.0//EN
CALSCALE:GREGORIAN
METHOD:PUBLISH
X-WR-CALNAME:The Porch Pour
X-ORIGINAL-URL:https://theporchpour.com
X-WR-CALDESC:Events for The Porch Pour
REFRESH-INTERVAL;VALUE=DURATION:PT1H
X-Robots-Tag:noindex
X-PUBLISHED-TTL:PT1H
BEGIN:VTIMEZONE
TZID:America/Chicago
BEGIN:DAYLIGHT
TZOFFSETFROM:-0600
TZOFFSETTO:-0500
TZNAME:CDT
DTSTART:20220313T080000
END:DAYLIGHT
BEGIN:STANDARD
TZOFFSETFROM:-0500
TZOFFSETTO:-0600
TZNAME:CST
DTSTART:20221106T070000
END:STANDARD
END:VTIMEZONE
BEGIN:VEVENT
DTSTART;TZID=America/Chicago:20220925T100000
DTEND;TZID=America/Chicago:20220925T100000
DTSTAMP:20260419T233133
CREATED:20220801T164303Z
LAST-MODIFIED:20220801T164303Z
UID:10000004-1664100000-1664100000@theporchpour.com
SUMMARY:The Porch Pour Game of Clue Ends
DESCRIPTION:The Porch Pour Game of Clue ends September 25th. Be sure to submit your answers for a chance to win!
URL:https://theporchpour.com/event/the-porch-pour-game-of-clue-ends/
CATEGORIES:Upcoming Events
ATTACH;FMTTYPE=image/jpeg:https://theporchpour.com/wp-content/uploads/2022/07/IMG_5731.jpeg
END:VEVENT
END:VCALENDAR