BEGIN:VCALENDAR
VERSION:2.0
PRODID:-//The Porch Pour - ECPv6.0.7.1//NONSGML v1.0//EN
CALSCALE:GREGORIAN
METHOD:PUBLISH
X-WR-CALNAME:The Porch Pour
X-ORIGINAL-URL:https://theporchpour.com
X-WR-CALDESC:Events for The Porch Pour
REFRESH-INTERVAL;VALUE=DURATION:PT1H
X-Robots-Tag:noindex
X-PUBLISHED-TTL:PT1H
BEGIN:VTIMEZONE
TZID:America/Chicago
BEGIN:DAYLIGHT
TZOFFSETFROM:-0600
TZOFFSETTO:-0500
TZNAME:CDT
DTSTART:20220313T080000
END:DAYLIGHT
BEGIN:STANDARD
TZOFFSETFROM:-0500
TZOFFSETTO:-0600
TZNAME:CST
DTSTART:20221106T070000
END:STANDARD
END:VTIMEZONE
BEGIN:VEVENT
DTSTART;TZID=America/Chicago:20221231T160000
DTEND;TZID=America/Chicago:20221231T223000
DTSTAMP:20260419T211531
CREATED:20221208T213435Z
LAST-MODIFIED:20221209T193725Z
UID:10000003-1672502400-1672525800@theporchpour.com
SUMMARY:New Year's Eve Special 4-Course Dinner
DESCRIPTION:Reservations HIGHLY recommended for our FIRST New Year’s Eve Celebration. We have an INCREDIBLE 4-Course Menu\, including a glass of Champagne & Wine Pairing for the evening priced at $92 per person. You do NOT want to miss this! Stay local and save yourself the drive this New Year’s Eve. \nSpecial 4-Course Menu — Click Here \nMake your Reservation in below link!\nhttps://www.opentable.com/booking/experiences-availability?rid=1063822&restref=1063822&experienceId=124497
URL:https://theporchpour.com/event/new-years-eve-special-4-course-dinner/
END:VEVENT
END:VCALENDAR